BEGIN:VCALENDAR
VERSION:2.0
PRODID:-//communityvna.org//NONSGML kigkonsult.se iCalcreator 2.30.10//
CALSCALE:GREGORIAN
METHOD:PUBLISH
UID:323dd826-eee0-4e2f-ad92-37dd7d0d0afa
X-WR-CALDESC:
X-WR-RELCALID:a517c1721d5621e56d73719a7206fb42
X-WR-TIMEZONE:America/New_York
BEGIN:VTIMEZONE
TZID:America/New_York
BEGIN:STANDARD
TZNAME:EST
DTSTART:20251102T020000
TZOFFSETFROM:-0400
TZOFFSETTO:-0500
RDATE:20261101T020000
END:STANDARD
BEGIN:DAYLIGHT
TZNAME:EDT
DTSTART:20250309T020000
TZOFFSETFROM:-0500
TZOFFSETTO:-0400
RDATE:20260308T020000
RDATE:20270314T020000
END:DAYLIGHT
END:VTIMEZONE
BEGIN:VEVENT
UID:73357836-beb0-42a2-9c23-fd85bc709aa3
DTSTAMP:20260422T134226Z
DESCRIPTION:
DTSTART;TZID=America/New_York:20251113T083000
DTEND;TZID=America/New_York:20251113T103000
LOCATION:379 S Branch Rd\, Hillsborough Twp\, AL 08844 US
SUMMARY:Child Health Clinic Hillsborough
END:VEVENT
END:VCALENDAR
