BEGIN:VCALENDAR
VERSION:2.0
PRODID:-//communityvna.org//NONSGML kigkonsult.se iCalcreator 2.30.10//
CALSCALE:GREGORIAN
METHOD:PUBLISH
UID:3ba5183e-450b-4fcf-ab4f-fa8107c1fb87
X-WR-CALDESC:
X-WR-RELCALID:2503e8b8f30db7d9645a07152c2aa80f
X-WR-TIMEZONE:America/New_York
BEGIN:VTIMEZONE
TZID:America/New_York
BEGIN:STANDARD
TZNAME:EST
DTSTART:20241103T020000
TZOFFSETFROM:-0400
TZOFFSETTO:-0500
RDATE:20251102T020000
RDATE:20261101T020000
END:STANDARD
BEGIN:DAYLIGHT
TZNAME:EDT
DTSTART:20250309T020000
TZOFFSETFROM:-0500
TZOFFSETTO:-0400
RDATE:20260308T020000
RDATE:20270314T020000
END:DAYLIGHT
END:VTIMEZONE
BEGIN:VEVENT
UID:2b763522-6fc4-4ed1-aa2e-550a50e4a132
DTSTAMP:20260422T152229Z
DESCRIPTION:
DTSTART;TZID=America/New_York:20251028T120000
DTEND;TZID=America/New_York:20251028T130000
LOCATION:Chester Area Senior Housing\, 1 Cole Court\, Chester\, NJ 07930 US
SUMMARY:Blood pressure Screening Chester (CASH)
END:VEVENT
END:VCALENDAR
