BEGIN:VCALENDAR
VERSION:2.0
PRODID:-//communityvna.org//NONSGML kigkonsult.se iCalcreator 2.30.10//
CALSCALE:GREGORIAN
METHOD:PUBLISH
UID:b3f444e4-099a-4393-8154-7f501b3d8dad
X-WR-CALDESC:
X-WR-RELCALID:f276c2634d927fe62b1f5953f685581f
X-WR-TIMEZONE:America/New_York
BEGIN:VTIMEZONE
TZID:America/New_York
BEGIN:STANDARD
TZNAME:EST
DTSTART:20241103T020000
TZOFFSETFROM:-0400
TZOFFSETTO:-0500
RDATE:20251102T020000
RDATE:20261101T020000
END:STANDARD
BEGIN:DAYLIGHT
TZNAME:EDT
DTSTART:20250309T020000
TZOFFSETFROM:-0500
TZOFFSETTO:-0400
RDATE:20260308T020000
RDATE:20270314T020000
END:DAYLIGHT
END:VTIMEZONE
BEGIN:VEVENT
UID:e10a631c-e247-4f8b-9764-32de78367ec5
DTSTAMP:20260422T152056Z
DESCRIPTION:
DTSTART;TZID=America/New_York:20251008T120000
DTEND;TZID=America/New_York:20251008T140000
LOCATION:917 Valley Rd\, Gilette\, NJ 07933 US
SUMMARY:Community Health Fair Long Hill Township
END:VEVENT
END:VCALENDAR
