BEGIN:VCALENDAR
VERSION:2.0
PRODID:-//communityvna.org//NONSGML kigkonsult.se iCalcreator 2.30.10//
CALSCALE:GREGORIAN
METHOD:PUBLISH
UID:06b73430-e2a5-4ed1-8b55-4e73a91511d6
X-WR-CALDESC:
X-WR-RELCALID:e9d816708a0313b05a57b355ce1c4bb2
X-WR-TIMEZONE:America/New_York
BEGIN:VTIMEZONE
TZID:America/New_York
BEGIN:STANDARD
TZNAME:EST
DTSTART:20241103T020000
TZOFFSETFROM:-0400
TZOFFSETTO:-0500
RDATE:20251102T020000
RDATE:20261101T020000
END:STANDARD
BEGIN:DAYLIGHT
TZNAME:EDT
DTSTART:20250309T020000
TZOFFSETFROM:-0500
TZOFFSETTO:-0400
RDATE:20260308T020000
RDATE:20270314T020000
END:DAYLIGHT
END:VTIMEZONE
BEGIN:VEVENT
UID:502bff8f-abf0-40f1-82ed-2672849e7f61
DTSTAMP:20260424T085353Z
DESCRIPTION:
DTSTART;TZID=America/New_York:20250923T120000
DTEND;TZID=America/New_York:20250923T130000
LOCATION:Chester Area Senior Housing\, 1 Cole Court\, Chester\, NJ 07930 US
SUMMARY:Blood pressure Screening Chester (CASH)
END:VEVENT
END:VCALENDAR
