BEGIN:VCALENDAR
VERSION:2.0
PRODID:-//communityvna.org//NONSGML kigkonsult.se iCalcreator 2.30.10//
CALSCALE:GREGORIAN
METHOD:PUBLISH
UID:604d9620-32e9-4fa4-8ee7-0c427618c6fa
X-WR-CALDESC:
X-WR-RELCALID:59adbb1e07bc3e3e7852fbfbd0ef3dfb
X-WR-TIMEZONE:America/New_York
BEGIN:VTIMEZONE
TZID:America/New_York
BEGIN:STANDARD
TZNAME:EST
DTSTART:20241103T020000
TZOFFSETFROM:-0400
TZOFFSETTO:-0500
RDATE:20251102T020000
RDATE:20261101T020000
END:STANDARD
BEGIN:DAYLIGHT
TZNAME:EDT
DTSTART:20250309T020000
TZOFFSETFROM:-0500
TZOFFSETTO:-0400
RDATE:20260308T020000
RDATE:20270314T020000
END:DAYLIGHT
END:VTIMEZONE
BEGIN:VEVENT
UID:a80f0025-d194-40cb-90a2-05bf2eebd80b
DTSTAMP:20260424T084644Z
DESCRIPTION:
DTSTART;TZID=America/New_York:20250922T110000
DTEND;TZID=America/New_York:20250922T120000
LOCATION:Mendham Area Senior Center Garabrant Center\, 4 Wilson St\, Mendha
 m\, NJ 07945 US
SUMMARY:Blood pressure Screening Mendham
END:VEVENT
END:VCALENDAR
