BEGIN:VCALENDAR
VERSION:2.0
PRODID:-//communityvna.org//NONSGML kigkonsult.se iCalcreator 2.30.10//
CALSCALE:GREGORIAN
METHOD:PUBLISH
UID:42ea0e80-4562-42a0-9201-de9ff5bb01e6
X-WR-CALDESC:
X-WR-RELCALID:d126c426813872f1c3fa97391417c67e
X-WR-TIMEZONE:America/New_York
BEGIN:VTIMEZONE
TZID:America/New_York
BEGIN:STANDARD
TZNAME:EST
DTSTART:20241103T020000
TZOFFSETFROM:-0400
TZOFFSETTO:-0500
RDATE:20251102T020000
RDATE:20261101T020000
END:STANDARD
BEGIN:DAYLIGHT
TZNAME:EDT
DTSTART:20250309T020000
TZOFFSETFROM:-0500
TZOFFSETTO:-0400
RDATE:20260308T020000
RDATE:20270314T020000
END:DAYLIGHT
END:VTIMEZONE
BEGIN:VEVENT
UID:1d12d12b-c719-4161-9321-3182d19cb280
DTSTAMP:20260424T085647Z
DESCRIPTION:
DTSTART;TZID=America/New_York:20250918T083000
DTEND;TZID=America/New_York:20250918T103000
LOCATION:379 S Branch Rd\, Hillsborough Twp\, NJ 08844 US
SUMMARY:Child Health Clinic Hillsborough
END:VEVENT
END:VCALENDAR
