BEGIN:VCALENDAR
VERSION:2.0
PRODID:-//communityvna.org//NONSGML kigkonsult.se iCalcreator 2.30.10//
CALSCALE:GREGORIAN
METHOD:PUBLISH
UID:c934e42d-95c4-4310-b295-d068309819c0
X-WR-CALDESC:
X-WR-RELCALID:40e0f602c8c0ef4019f741e57e385d13
X-WR-TIMEZONE:America/New_York
BEGIN:VTIMEZONE
TZID:America/New_York
BEGIN:STANDARD
TZNAME:EST
DTSTART:20241103T020000
TZOFFSETFROM:-0400
TZOFFSETTO:-0500
RDATE:20251102T020000
RDATE:20261101T020000
END:STANDARD
BEGIN:DAYLIGHT
TZNAME:EDT
DTSTART:20250309T020000
TZOFFSETFROM:-0500
TZOFFSETTO:-0400
RDATE:20260308T020000
END:DAYLIGHT
END:VTIMEZONE
BEGIN:VEVENT
UID:ff90b673-d7f4-47d0-9daa-e8c6e895dc4f
DTSTAMP:20260424T085116Z
DESCRIPTION:
DTSTART;TZID=America/New_York:20250902T103000
DTEND;TZID=America/New_York:20250902T120000
LOCATION:Somerset Wellness\, 202 Mt Airy Rd\, Basking Ridge\, NJ 07920 US
SUMMARY:Blood pressure Screening Basking Ridge - Somerset Wellness
END:VEVENT
END:VCALENDAR
