BEGIN:VCALENDAR
VERSION:2.0
PRODID:-//communityvna.org//NONSGML kigkonsult.se iCalcreator 2.30.10//
CALSCALE:GREGORIAN
METHOD:PUBLISH
UID:85850c0e-cb91-4492-af3f-f7fa0f6c3afa
X-WR-CALDESC:
X-WR-RELCALID:8dad0101a6b147a3053a520ed3427399
X-WR-TIMEZONE:America/New_York
BEGIN:VTIMEZONE
TZID:America/New_York
BEGIN:STANDARD
TZNAME:EST
DTSTART:20241103T020000
TZOFFSETFROM:-0400
TZOFFSETTO:-0500
RDATE:20251102T020000
RDATE:20261101T020000
END:STANDARD
BEGIN:DAYLIGHT
TZNAME:EDT
DTSTART:20250309T020000
TZOFFSETFROM:-0500
TZOFFSETTO:-0400
RDATE:20260308T020000
END:DAYLIGHT
END:VTIMEZONE
BEGIN:VEVENT
UID:d4a7bf42-f9f8-4ced-bee0-3305d6b21899
DTSTAMP:20260424T103703Z
DESCRIPTION:
DTSTART;TZID=America/New_York:20250828T083000
DTEND;TZID=America/New_York:20250828T103000
LOCATION:581 Bridgewater Ave.\, Bridgewater\, NJ 08807 US
SUMMARY:Child Health Clinic Bridgewater
END:VEVENT
END:VCALENDAR
