BEGIN:VCALENDAR
VERSION:2.0
PRODID:-//communityvna.org//NONSGML kigkonsult.se iCalcreator 2.30.10//
CALSCALE:GREGORIAN
METHOD:PUBLISH
UID:f08af2f8-0683-4646-8f85-f0652e3cd678
X-WR-CALDESC:
X-WR-RELCALID:b8154933210e0b464032112b6920f752
X-WR-TIMEZONE:America/New_York
BEGIN:VTIMEZONE
TZID:America/New_York
BEGIN:STANDARD
TZNAME:EST
DTSTART:20241103T020000
TZOFFSETFROM:-0400
TZOFFSETTO:-0500
RDATE:20251102T020000
RDATE:20261101T020000
END:STANDARD
BEGIN:DAYLIGHT
TZNAME:EDT
DTSTART:20250309T020000
TZOFFSETFROM:-0500
TZOFFSETTO:-0400
RDATE:20260308T020000
END:DAYLIGHT
END:VTIMEZONE
BEGIN:VEVENT
UID:4f2ba54a-23f7-4afa-85e5-a733eeed692e
DTSTAMP:20260424T103703Z
DESCRIPTION:
DTSTART;TZID=America/New_York:20250826T120000
DTEND;TZID=America/New_York:20250826T130000
LOCATION:Chester Area Senior Housing\, 1 Cole Court\, Chester\, NJ 07930 US
SUMMARY:Blood pressure Screening Chester (CASH)
END:VEVENT
END:VCALENDAR
