BEGIN:VCALENDAR
VERSION:2.0
PRODID:-//communityvna.org//NONSGML kigkonsult.se iCalcreator 2.30.10//
CALSCALE:GREGORIAN
METHOD:PUBLISH
UID:4838896a-3d5d-4a05-8c51-dd12e89395f9
X-WR-CALDESC:
X-WR-RELCALID:7c0375a861527c02f5ec5de206917a3d
X-WR-TIMEZONE:America/New_York
BEGIN:VTIMEZONE
TZID:America/New_York
BEGIN:STANDARD
TZNAME:EST
DTSTART:20241103T020000
TZOFFSETFROM:-0400
TZOFFSETTO:-0500
RDATE:20251102T020000
RDATE:20261101T020000
END:STANDARD
BEGIN:DAYLIGHT
TZNAME:EDT
DTSTART:20250309T020000
TZOFFSETFROM:-0500
TZOFFSETTO:-0400
RDATE:20260308T020000
END:DAYLIGHT
END:VTIMEZONE
BEGIN:VEVENT
UID:5018e9a6-86ca-4af5-b59a-c2beee3b48be
DTSTAMP:20260424T103330Z
DESCRIPTION:
DTSTART;TZID=America/New_York:20250826T110000
DTEND;TZID=America/New_York:20250826T120000
LOCATION:Chester Senior Resource Center\, 50 County Rd 513\, Chester\, NJ 0
 7930 US
SUMMARY:Blood pressure Screening Chester Seniors
END:VEVENT
END:VCALENDAR
