BEGIN:VCALENDAR
VERSION:2.0
PRODID:-//communityvna.org//NONSGML kigkonsult.se iCalcreator 2.30.10//
CALSCALE:GREGORIAN
METHOD:PUBLISH
UID:e3da6543-922d-4fcf-a743-b693bea4eae0
X-WR-CALDESC:
X-WR-RELCALID:ceb2620cb49d33043900dd4fd3deb039
X-WR-TIMEZONE:America/New_York
BEGIN:VTIMEZONE
TZID:America/New_York
BEGIN:STANDARD
TZNAME:EST
DTSTART:20241103T020000
TZOFFSETFROM:-0400
TZOFFSETTO:-0500
RDATE:20251102T020000
RDATE:20261101T020000
END:STANDARD
BEGIN:DAYLIGHT
TZNAME:EDT
DTSTART:20250309T020000
TZOFFSETFROM:-0500
TZOFFSETTO:-0400
RDATE:20260308T020000
END:DAYLIGHT
END:VTIMEZONE
BEGIN:VEVENT
UID:edfc0f3b-26cd-4c0b-8642-6b7bc18ab9ba
DTSTAMP:20260424T103720Z
DESCRIPTION:
DTSTART;TZID=America/New_York:20250825T123000
DTEND;TZID=America/New_York:20250825T133000
LOCATION:Peapack/Gladstone Municipal Building\, 1 School Street\, Peapack\,
  NJ 07977 US
SUMMARY:Blood pressure Screening Peapack/Gladstone
END:VEVENT
END:VCALENDAR
