BEGIN:VCALENDAR
VERSION:2.0
PRODID:-//communityvna.org//NONSGML kigkonsult.se iCalcreator 2.30.10//
CALSCALE:GREGORIAN
METHOD:PUBLISH
UID:80e3d47e-84e2-4d06-9be9-51a0ee1f161d
X-WR-CALDESC:
X-WR-RELCALID:276a2d68a5a62fb9bcff687983c3db52
X-WR-TIMEZONE:America/New_York
BEGIN:VTIMEZONE
TZID:America/New_York
BEGIN:STANDARD
TZNAME:EST
DTSTART:20241103T020000
TZOFFSETFROM:-0400
TZOFFSETTO:-0500
RDATE:20251102T020000
RDATE:20261101T020000
END:STANDARD
BEGIN:DAYLIGHT
TZNAME:EDT
DTSTART:20250309T020000
TZOFFSETFROM:-0500
TZOFFSETTO:-0400
RDATE:20260308T020000
END:DAYLIGHT
END:VTIMEZONE
BEGIN:VEVENT
UID:10e38fb2-2175-4c04-8740-c6a682a1e6fe
DTSTAMP:20260424T102410Z
DESCRIPTION:
DTSTART;TZID=America/New_York:20250825T110000
DTEND;TZID=America/New_York:20250825T120000
LOCATION:Mendham Area Senior Center Garabrant Center\, 4 Wilson St\, Mendha
 m\, NJ 07945 US
SUMMARY:Blood pressure Screening Mendham
END:VEVENT
END:VCALENDAR
