BEGIN:VCALENDAR
VERSION:2.0
PRODID:-//communityvna.org//NONSGML kigkonsult.se iCalcreator 2.30.10//
CALSCALE:GREGORIAN
METHOD:PUBLISH
UID:2953b3e6-ecf3-42a6-8cbf-d2bb0f7c8691
X-WR-CALDESC:
X-WR-RELCALID:b48ab6c9f81b1edc47a58e226416d839
X-WR-TIMEZONE:America/New_York
BEGIN:VTIMEZONE
TZID:America/New_York
BEGIN:STANDARD
TZNAME:EST
DTSTART:20241103T020000
TZOFFSETFROM:-0400
TZOFFSETTO:-0500
RDATE:20251102T020000
RDATE:20261101T020000
END:STANDARD
BEGIN:DAYLIGHT
TZNAME:EDT
DTSTART:20250309T020000
TZOFFSETFROM:-0500
TZOFFSETTO:-0400
RDATE:20260308T020000
END:DAYLIGHT
END:VTIMEZONE
BEGIN:VEVENT
UID:1fcbe298-8c92-4ce9-8b8f-1eb460b7f116
DTSTAMP:20260424T104429Z
DESCRIPTION:
DTSTART;TZID=America/New_York:20250805T103000
DTEND;TZID=America/New_York:20250805T120000
LOCATION:Somerset Wellness\, 202 Mt Airy Rd\, Basking Ridge\, NJ 07920 US
SUMMARY:Blood pressure Screening Basking Ridge - Somerset Wellness
END:VEVENT
END:VCALENDAR
