BEGIN:VCALENDAR
VERSION:2.0
PRODID:-//communityvna.org//NONSGML kigkonsult.se iCalcreator 2.30.10//
CALSCALE:GREGORIAN
METHOD:PUBLISH
UID:084e445c-bc4b-49d9-9f35-3e83c2ac373c
X-WR-CALDESC:
X-WR-RELCALID:da5f60eae8831e6a73c0a85200942fae
X-WR-TIMEZONE:America/New_York
BEGIN:VTIMEZONE
TZID:America/New_York
BEGIN:STANDARD
TZNAME:EST
DTSTART:20241103T020000
TZOFFSETFROM:-0400
TZOFFSETTO:-0500
RDATE:20251102T020000
RDATE:20261101T020000
END:STANDARD
BEGIN:DAYLIGHT
TZNAME:EDT
DTSTART:20250309T020000
TZOFFSETFROM:-0500
TZOFFSETTO:-0400
RDATE:20260308T020000
END:DAYLIGHT
END:VTIMEZONE
BEGIN:VEVENT
UID:7b442eca-637e-4145-92d1-4fca81c8c367
DTSTAMP:20260422T204104Z
DESCRIPTION:
DTSTART;TZID=America/New_York:20250728T123000
DTEND;TZID=America/New_York:20250728T133000
LOCATION:Peapack/Gladstone Municipal Building\, 1 School Street\, Peapack\,
  NJ 07977 US
SUMMARY:Blood pressure Screening Peapack/Gladstone
END:VEVENT
END:VCALENDAR
