BEGIN:VCALENDAR
VERSION:2.0
PRODID:-//communityvna.org//NONSGML kigkonsult.se iCalcreator 2.30.10//
CALSCALE:GREGORIAN
METHOD:PUBLISH
UID:01ed8675-6b64-4147-abc1-c5a7f56e10f1
X-WR-CALDESC:
X-WR-RELCALID:721603bceb465db9e9880a5e63cd7147
X-WR-TIMEZONE:America/New_York
BEGIN:VTIMEZONE
TZID:America/New_York
BEGIN:STANDARD
TZNAME:EST
DTSTART:20241103T020000
TZOFFSETFROM:-0400
TZOFFSETTO:-0500
RDATE:20251102T020000
RDATE:20261101T020000
END:STANDARD
BEGIN:DAYLIGHT
TZNAME:EDT
DTSTART:20250309T020000
TZOFFSETFROM:-0500
TZOFFSETTO:-0400
RDATE:20260308T020000
END:DAYLIGHT
END:VTIMEZONE
BEGIN:VEVENT
UID:01076ffd-6c4b-4752-bc0b-c95c18ee2567
DTSTAMP:20260424T104439Z
DESCRIPTION:
DTSTART;TZID=America/New_York:20250715T100000
DTEND;TZID=America/New_York:20250715T110000
LOCATION:Centerbridge 2\, 459 Shasta Dr\, Bridgewater\, NJ 08807 US
SUMMARY:Blood pressure Screening Bridgewater
END:VEVENT
END:VCALENDAR
