BEGIN:VCALENDAR
VERSION:2.0
PRODID:-//communityvna.org//NONSGML kigkonsult.se iCalcreator 2.30.10//
CALSCALE:GREGORIAN
METHOD:PUBLISH
UID:6e8251f8-b202-4cec-9d93-4a6620b59440
X-WR-CALDESC:
X-WR-RELCALID:3b6d98d90b2a30d71e4bfdc6ae5e1868
X-WR-TIMEZONE:America/New_York
BEGIN:VTIMEZONE
TZID:America/New_York
BEGIN:STANDARD
TZNAME:EST
DTSTART:20241103T020000
TZOFFSETFROM:-0400
TZOFFSETTO:-0500
RDATE:20251102T020000
RDATE:20261101T020000
END:STANDARD
BEGIN:DAYLIGHT
TZNAME:EDT
DTSTART:20250309T020000
TZOFFSETFROM:-0500
TZOFFSETTO:-0400
RDATE:20260308T020000
END:DAYLIGHT
END:VTIMEZONE
BEGIN:VEVENT
UID:944b7d81-8e20-4421-8ba6-1a9976f7fa71
DTSTAMP:20260422T203932Z
DESCRIPTION:
DTSTART;TZID=America/New_York:20250715T110000
DTEND;TZID=America/New_York:20250715T120000
LOCATION:Centerbridge 1\, 491 Shasta Drive\, Bridgewater\, NJ 08807 US
SUMMARY:Blood pressure Screening Bridgewater
END:VEVENT
END:VCALENDAR
