BEGIN:VCALENDAR
VERSION:2.0
PRODID:-//communityvna.org//NONSGML kigkonsult.se iCalcreator 2.30.10//
CALSCALE:GREGORIAN
METHOD:PUBLISH
UID:df8e5d55-4826-4d11-9195-7b6117e3f989
X-WR-CALDESC:
X-WR-RELCALID:2a7c40281b5434be9b584bbf0eece256
X-WR-TIMEZONE:America/New_York
BEGIN:VTIMEZONE
TZID:America/New_York
BEGIN:STANDARD
TZNAME:EST
DTSTART:20241103T020000
TZOFFSETFROM:-0400
TZOFFSETTO:-0500
RDATE:20251102T020000
RDATE:20261101T020000
END:STANDARD
BEGIN:DAYLIGHT
TZNAME:EDT
DTSTART:20250309T020000
TZOFFSETFROM:-0500
TZOFFSETTO:-0400
RDATE:20260308T020000
END:DAYLIGHT
END:VTIMEZONE
BEGIN:VEVENT
UID:43bb1521-0c9e-4857-bd5f-7dc89b262061
DTSTAMP:20260422T222351Z
DESCRIPTION:
DTSTART;TZID=America/New_York:20250630T123000
DTEND;TZID=America/New_York:20250630T133000
LOCATION:Peapack/Gladstone Municipal Building\, 1 School Street\, Peapack\,
  NJ 07977 US
SUMMARY:Blood pressure Screening Peapack/Gladstone
END:VEVENT
END:VCALENDAR
