BEGIN:VCALENDAR
VERSION:2.0
PRODID:-//communityvna.org//NONSGML kigkonsult.se iCalcreator 2.30.10//
CALSCALE:GREGORIAN
METHOD:PUBLISH
UID:b4f8578a-b44e-4b92-b6f2-7965036b10bc
X-WR-CALDESC:
X-WR-RELCALID:3e476097b0d38140bbfae621db93b332
X-WR-TIMEZONE:America/New_York
BEGIN:VTIMEZONE
TZID:America/New_York
BEGIN:STANDARD
TZNAME:EST
DTSTART:20241103T020000
TZOFFSETFROM:-0400
TZOFFSETTO:-0500
RDATE:20251102T020000
RDATE:20261101T020000
END:STANDARD
BEGIN:DAYLIGHT
TZNAME:EDT
DTSTART:20250309T020000
TZOFFSETFROM:-0500
TZOFFSETTO:-0400
RDATE:20260308T020000
END:DAYLIGHT
END:VTIMEZONE
BEGIN:VEVENT
UID:dfc0015e-b475-4509-99f8-19d68ffa92c5
DTSTAMP:20260422T222524Z
DESCRIPTION:
DTSTART;TZID=America/New_York:20250626T083000
DTEND;TZID=America/New_York:20250626T103000
LOCATION:581 Bridgewater Ave.\, Bridgewater\, NJ 08807 US
SUMMARY:Child Health Clinic Bridgewater
END:VEVENT
END:VCALENDAR
