BEGIN:VCALENDAR
VERSION:2.0
PRODID:-//communityvna.org//NONSGML kigkonsult.se iCalcreator 2.30.10//
CALSCALE:GREGORIAN
METHOD:PUBLISH
UID:52be8914-79a2-4a6a-9d48-e7c885882cc6
X-WR-CALDESC:
X-WR-RELCALID:5bea5731549aeae84a7c3aab1ef83653
X-WR-TIMEZONE:America/Chicago
BEGIN:VTIMEZONE
TZID:America/Chicago
BEGIN:STANDARD
TZNAME:CST
DTSTART:20241103T020000
TZOFFSETFROM:-0500
TZOFFSETTO:-0600
RDATE:20251102T020000
RDATE:20261101T020000
END:STANDARD
BEGIN:DAYLIGHT
TZNAME:CDT
DTSTART:20250309T020000
TZOFFSETFROM:-0600
TZOFFSETTO:-0500
RDATE:20260308T020000
END:DAYLIGHT
END:VTIMEZONE
BEGIN:VEVENT
UID:ee5e115f-adc1-45c3-a798-27525e3b678a
DTSTAMP:20260424T150951Z
DESCRIPTION:
DTSTART;TZID=America/Chicago:20250509T100000
DTEND;TZID=America/Chicago:20250509T110000
LOCATION:1234 Fake Street\, Somewhere\, AL 00000 US
SUMMARY:Test Event
END:VEVENT
END:VCALENDAR
